Workbook

Sheet referfriend
B1: =counta(B3:B997) -> 3 | C1: Green - Done | D1: Red- On hold | G1: =counta(G3:G997) -> 3 | P1: =counta(P3:P997) -> 2 | Q1: =counta(Q3:Q997) -> 2 | R1: =counta(R3:R997) -> 0 | S1: =COUNTA(S3:S2000) -> 0
A2: Email Code | B2: When does the mail go ? (Communication Trigger) | C2: To whom does the mail go ? | D2: from_email | E2: Subject | F2: Title | G2: Main Invitation | H2: Additional Opening for Action | J2: Message on mynextfilm.ai | K2: Notification on mynextfilm.ai, to the User. | L2: News for the Buddies on mynextfilm.ai to Buddy's Member Profile. | M2: Doodle Url | N2: Poster Url | O2: Doodle Code | P2: reviewed? | Q2: Implemented? | R2: tested ? | S2: Reviewed/Written by Arzoo
A3: RF1 | B3: When user refers any of his friend | C3: To the User's Friend | D3: noreply@mynextfilm.ai | E3: Someone Vouched For You! | F3: GOLDEN CHANCE!/A World Of Opportunities Awaits! | G3: <b>Dear {User's Friend},</b><br><br>{User Name} believes that your aspirations align with what mynextfilm.ai offers.<br<br>At mynextfilm.ai, we promise to make every moment worthwhile. To your pleasant surprise, gradually you will discover that every aspect of filmmaking has become so simple - Be it brainstorming with <b>Ida</b>, exporting beats, generating scenes, translating scripts into several languages, creating pitchdeck, growing your community, etc.<br><br>To avail these services, [Register Now](https://mynextfilm.ai/).<br><br><b>Best Regards </b><br> <b>Team My Next Film</b> | H3: O41 | M3: https://uidemos.s3.ap-south-1.amazonaws.com/Gift+Subscription.png | N3: https://uidemos.s3.ap-south-1.amazonaws.com/17.png | O3: B16 | P3: yes | Q3: yes | T3: not generated
A4: RF2 | B4: When user succesfully refers any of his friend | C4: To the User | D4: noreply@mynextfilm.ai | E4: What A Keen Eye! | F4: INSPIRING!/Your Contribution Is Meaningful! | G4: <b>Dear {User},</b><br><br>Thank You for being generous. {User's Friend's Name} will be grateful to you for life.<br><br><b>Best Regards </b><br> <b>Team My Next Film</b> | H4: O2 | M4: https://uidemos.s3.ap-south-1.amazonaws.com/Gift+Subscription.png | N4: https://uidemos.s3.ap-south-1.amazonaws.com/17.png | O4: B16 | P4: yes | Q4: yes
A5: RF3 | B5: When user's referral Joined MNF | C5: To the user | D5: noreply@mynextfilm.ai | E5: Your referral has joined MNF | F5: WAY TO GO!/{Relevant name} has joined MNF!! | G5: <b>Dear {User},</b> <br> <br> {referredpeople} has accepted your referral and joined MNF. We shall do our best to ensure that he/she is benefited immensely. When he/she claims his/her privileges at MNF, you privilege move towards longevity. <br> <br> [Click here](https://mynextfilm/members-home) to refer to more friends <br> <br> <b>Best Regards </b> <br> <b>Team My Next Film<br> | H5: O2 | M5: https://uidemos.s3.ap-south-1.amazonaws.com/MNF+Illustration+1.png | N5: https://uidemos.s3.ap-south-1.amazonaws.com/17.png

Sheet dashboard
A1: PRIORITY | B1: Date | C1: 45701
C2: Identified | D2: Written | E2: Written/ Revised | F2: Reviewed | G2: Implemented | H2: Tested | I2: Deployed | J2: required emails | K2: New sent emails identified | L2: New Sent emails reviewed
C3: Email Sheet | D3: Email Sheet | E3: Email Sheet | F3: Email Sheet | G3: QA | H3: QA | I3: AWS
C4: Munesh | D4: Whoever | E4: Arzoo | F4: Anchal | G4: Ankit | H4: Sayali | I4: Ankit | K4: Arzoo | L4: Sudeshna
B5: Total | C5: =sum(C9:C31) -> 593 | D5: =sum(D9:D31) -> 331 | E5: =sum(E9:E31) -> 153 | F5: =sum(F9:F31) -> 230 | G5: =sum(G9:G31) -> 187 | H5: =sum(H9:H31) -> 85 | K5: 71 | L5: 58
B6: Prioritised | C6: ='Email Review Priorities'!A1 -> 191 | D6: ='Email Review Priorities'!E1 -> 135 | E6: ='Email Review Priorities'!S1 -> 0 | F6: ='Email Review Priorities'!P1 -> 135 | G6: ='Email Review Priorities'!Q1 -> 0 | H6: ='Email Review Priorities'!R1 -> 0
B7: Bulk & Reminders | C7: ='Bulk and reminder'!B1 -> 115 | D7: ='Bulk and reminder'!P1 -> 105 | E7: ='Bulk and reminder'!S1 -> 0 | F7: ='Bulk and reminder'!P1 -> 105 | G7: ='Bulk and reminder'!Q1 -> 0 | H7: ='Bulk and reminder'!R1 -> 0
B9: Do you Know ? | C9: ='Do You Know(Demo)'!B1 -> 78 | D9: ='Do You Know(Demo)'!G1 -> 0 | E9: ='Do You Know(Demo)'!S1 -> 0 | F9: ='Do You Know(Demo)'!P1 -> 0 | G9: ='Do You Know(Demo)'!Q1 -> 0 | H9: ='Do You Know(Demo)'!R1 -> 0
B10: How to? | C10: ='How To(Tutorials)'!B1 -> 69 | D10: ='How To(Tutorials)'!G1 -> 0 | E10: ='How To(Tutorials)'!S1 -> 0 | F10: ='How To(Tutorials)'!P1 -> 0 | G10: ='How To(Tutorials)'!Q1 -> 0 | H10: ='How To(Tutorials)'!R1 -> 0
B11: Milestones | C11: =Milestones!B1 -> 29 | D11: =Milestones!G1 -> 0 | E11: =Milestones!S1 -> 0 | F11: =Milestones!P1 -> 0 | G11: =Milestones!Q1 -> 0 | H11: =Milestones!R1 -> 0
A12: 1 | B12: Idea Mall | C12: ='4.Idea Mall '!B1 -> 42 | D12: ='4.Idea Mall '!G1 -> 28 | E12: ='4.Idea Mall '!S1 -> 29 | F12: ='4.Idea Mall '!P1 -> 38 | G12: ='4.Idea Mall '!Q1 -> 34 | H12: ='4.Idea Mall '!R1 -> 30
A13: 2 | B13: Script Pad | C13: ='script pad'!B1 -> 7 | D13: ='script pad'!G1 -> 4 | E13: ='script pad'!S1 -> 7 | F13: ='script pad'!P1 -> 7 | G13: ='script pad'!Q1 -> 7 | H13: ='script pad'!R1 -> 6 | J13: if user click on option "Delete from MNF Server." then SD16 will not have "However, you must unlock your project if you wish to make any edits." this line as we cannot unlock in this situation. So create new trigger point for this
A14: 3 | B14: Script Builder | C14: ='7.Script Builder'!B1 -> 7 | D14: ='7.Script Builder'!G1 -> 7 | E14: ='7.Script Builder'!S1 -> 6 | F14: ='7.Script Builder'!P1 -> 6 | G14: ='7.Script Builder'!Q1 -> 5 | H14: ='7.Script Builder'!R1 -> 2
A15: 4 | B15: Story to Script | C15: =storytoscript!B1 -> 0 | D15: =storytoscript!G1 -> 0 | E15: =storytoscript!S1 -> 0 | F15: =storytoscript!P1 -> 0 | G15: =storytoscript!Q1 -> 0 | H15: =storytoscript!R1 -> 0
A16: 5 | B16: Conversion | C16: ='5.Conversion - LPP'!B1 -> 18 | D16: ='5.Conversion - LPP'!G1 -> 18 | E16: ='5.Conversion - LPP'!S1 -> 0 | F16: ='5.Conversion - LPP'!P1 -> 1 | G16: ='5.Conversion - LPP'!Q1 -> 13 | H16: ='5.Conversion - LPP'!R1 -> 2
A17: 6 | B17: LPP Admn | C17: ='5.1.LPP - Admininstration'!B1 -> 36 | D17: ='5.1.LPP - Admininstration'!G1 -> 21 | E17: ='5.1.LPP - Admininstration'!S1 -> 0 | F17: ='5.1.LPP - Admininstration'!P1 -> 1 | G17: ='5.1.LPP - Admininstration'!Q1 -> 21 | H17: ='5.1.LPP - Admininstration'!R1 -> 0
A18: 7 | B18: Script Stall | C18: ='Script Stall'!B1 -> 19 | D18: ='Script Stall'!G1 -> 5 | E18: ='Script Stall'!S1 -> 12 | F18: ='Script Stall'!P1 -> 10 | G18: ='Script Stall'!Q1 -> 8 | H18: ='Script Stall'!R1 -> 8
A19: 8 | B19: Memb/ Ref | C19: ='2.membershipReferences'!B1 -> 143 | D19: ='2.membershipReferences'!G1 -> 122 | E19: ='2.membershipReferences'!S1 -> 78 | F19: ='2.membershipReferences'!P1 -> 108 | G19: ='2.membershipReferences'!Q1 -> 2 | H19: ='2.membershipReferences'!R1 -> 1
A20: 9 | B20: Pitchdeck Bundle | C20: ='11.Pitchdeck Bundle'!B1 -> 10 | D20: ='11.Pitchdeck Bundle'!G1 -> 8 | E20: ='11.Pitchdeck Bundle'!S1 -> 0 | F20: ='11.Pitchdeck Bundle'!P1 -> 4 | G20: ='11.Pitchdeck Bundle'!Q1 -> 7 | H20: ='11.Pitchdeck Bundle'!R1 -> 3
A21: 10 | B21: Juggarnaut | C21: =Juggernaut!B1 -> 16 | D21: =Juggernaut!G1 -> 14 | E21: =Juggernaut!S1 -> 0 | F21: =Juggernaut!P1 -> 15 | G21: =Juggernaut!Q1 -> 9 | H21: =Juggernaut!R1 -> 5
A22: 11 | B22: Gift Subscription | C22: =giftsubscription!B1 -> 4 | D22: =giftsubscription!G1 -> 1 | E22: =giftsubscription!S1 -> 4 | F22: =giftsubscription!P1 -> 4 | G22: =giftsubscription!Q1 -> 4 | H22: =giftsubscription!R1 -> 4
A23: 12 | B23: Refer a friend | C23: =referfriend!B1 -> 3 | D23: =referfriend!G1 -> 3 | E23: =referfriend!S1 -> 0 | F23: =referfriend!P1 -> 2 | G23: =referfriend!Q1 -> 2 | H23: =referfriend!R1 -> 0
A24: 13 | B24: Payment | C24: =Payment!B1 -> 7 | D24: =Payment!G1 -> 7 | E24: =Payment!S1 -> 1 | F24: =Payment!P1 -> 7 | G24: =Payment!Q1 -> 6 | H24: =Payment!R1 -> 5
A25: 14 | B25: Blockchain | C25: =blockchain!B1 -> 3 | D25: =blockchain!G1 -> 4 | E25: =blockchain!S1 -> 0 | F25: =blockchain!P1 -> 2 | G25: =blockchain!Q1 -> 3 | H25: =blockchain!R1 -> 3
A26: 15 | B26: Viewing Lounge | C26: ='viewers lounge'!B1 -> 23 | D26: ='viewers lounge'!G1 -> 16 | E26: ='viewers lounge'!S1 -> 5 | F26: ='viewers lounge'!P1 -> 14 | G26: ='viewers lounge'!Q1 -> 15 | H26: ='viewers lounge'!R1 -> 14 | J26: 1)no email found for link likes or commented, after accepting links by admin 2)for showreel likes, comments, after accepting links by admin-->showreel don't have video title so in notification and news shows wrongly-->Your comment on ashwin@mailinator.com's Showreel "[](http://1.6.141.108/viewerlounge/viewers_longue/#/view_videos)" has been posted.
A27: 16 | B27: Inst. Membshp | C27: ='Institutional Membership'!B1 -> 45 | D27: ='Institutional Membership'!G1 -> 57 | E27: ='Institutional Membership'!S1 -> 5 | F27: ='Institutional Membership'!P1 -> 4 | G27: ='Institutional Membership'!Q1 -> 47 | H27: ='Institutional Membership'!R1 -> 0
A28: 17 | B28: Misc | C28: ='3. Misc.'!B1 -> 2 | D28: ='3. Misc.'!G1 -> 2 | E28: ='3. Misc.'!S1 -> 0 | F28: ='3. Misc.'!P1 -> 0 | G28: ='3. Misc.'!Q1 -> 0 | H28: ='3. Misc.'!R1 -> 0
A29: 18 | B29: Events | C29: =Events!B1 -> 13 | D29: =Events!G1 -> 13 | E29: =Events!S1 -> 6 | F29: =Events!P1 -> 7 | G29: =Events!Q1 -> 4 | H29: =Events!R1 -> 2 | J29: Free trail handholding event mail
A30: 19 | B30: Cold Emails | C30: ='Cold Emails'!B1 -> 18 | D30: ='Cold Emails'!G1 -> 1 | E30: ='Cold Emails'!S1 -> 0 | F30: ='Cold Emails'!P1 -> 0 | G30: ='Cold Emails'!Q1 -> 0 | H30: ='Cold Emails'!R1 -> 0
B31: New Features | C31: ='New Feature'!B1 -> 1 | D31: ='New Feature'!G1 -> 0 | E31: ='New Feature'!S1 -> 0 | F31: ='New Feature'!P1 -> 0 | G31: ='New Feature'!Q1 -> 0 | H31: ='New Feature'!R1 -> 0
B32: Ask a question | C32: ='Ask a question'!B1 -> 2 | D32: ='Ask a question'!G1 -> 2 | E32: ='Ask a question'!S1 -> 0 | F32: ='Ask a question'!P1 -> 0 | G32: ='Ask a question'!Q1 -> 0 | H32: ='Ask a question'!R1 -> 0
B33: Messiah | C33: ='8. Messiah'!B1 -> 15 | D33: ='8. Messiah'!G1 -> 15 | E33: ='8. Messiah'!S1 -> 0 | F33: ='8. Messiah'!P1 -> 0 | G33: ='8. Messiah'!Q1 -> 0 | H33: ='8. Messiah'!R1 -> 0
B34: Rendezvous | C34: =' 1. Rendz (traction)'!B1 -> 13 | D34: =' 1. Rendz (traction)'!G1 -> 13 | E34: =' 1. Rendz (traction)'!S1 -> 0 | F34: =' 1. Rendz (traction)'!P1 -> 0 | G34: =' 1. Rendz (traction)'!Q1 -> 0 | H34: =' 1. Rendz (traction)'!R1 -> 0

Sheet Subject and titles
A1: EMAIL CODE | B1: When does the email go | C1: SUBJECT | D1: TITLE
A2: GT3 | B2: When user become life member | C2: Friendships are for lifetime. | D2: CONGRATULATIONS! You are now part of an exclusive group!!
A3: GT4 | B3: Life time member ship | C3: You have a new lifetime friend. | D3: KUDOS!/You are related with a new life member!!
A4: GT8 | B4: When user refers any of his friend | C4: You've Been Referred, and We're Thrilled! | D4: Get Lucky!/A world of opportunity is waiting for you!!
A5: GT9 | B5: When user succesfully refers any of his friend | C5: You are really marvellous | D5: YOU ARE INSPIRING!/We will let you know when {listofuser} will join MNF!!
A6: GT10 | C6: You have a big heart !! | D6: GRATITUDE!/ We will let you know when {listofuser} join(s) MNF!!
A7: GT11 | C7: One of your friend has referred you to join MyNextFilm | D7: GREAT!/{sender} wants you to join!!
A8: GT12 | B8: When user's friend joined MNF using gift code | C8: A pledge is redeemed | D8: CREDITIABLE!/Your gift is accepted!!
A9: VW12 | B9: when user upload the showreel | C9: Your Reel Has Been Successfully Uploaded! | D9: NICE!/ You've uploaded a reel!!
A10: MR9 | B10: User inactive for 15 days | C10: A fortnight is too long | D10: WHERE YOU AT!/ We are missing you!!
A11: MR08 | B11: New sign ups-after 10 days (if the user does not visit for 10 days) | C11: Your privileges are waiting | D11: MAKE UP YOUR MIND!/Take a look at the privileges of MNF members!!
A12: MR10 | B12: Subscription expiring in two weeks | C12: Save your privileges | D12: CAUTION!/Your privileges are about to expire on (date)!!
A13: MR11 | B13: Subscription expiring in one week | C13: It was never so urgent | D13: ALERT!/Your privileges are about to expire in one week!!
A14: MR12 | B14: subscription exipiring in twenty hours | C14: It is now or never | D14: WARNING!/You have only 24 hours!!
A15: MR13 | B15: Three days before deleting data and preferences | C15: Save them if you can | D15: ATTENTION!/ Your data at MNF will be deleted in three days!!
A16: MR14 | B16: When data has been deleted | C16: Nothing is immortal but..... | D16: REJOICE!/Everything is not lost!!
A17: MR24 | B17: when a payment fails | C17: Something really went wrong | D17: PUZZLED!/ We did not receive the payment you made!!
A18: MR25 | B18: When payment is received for any service | C18: Every penny of yours is valuable | D18: SPLENDID!/ You will be pleased with what gets created!!
A19: MR26 | B19: When a service is sucessfully delivered against the payment received, the receipt invoice (detailing the breakup of cost to be included) | C19: Please update your books. | D19: TAKE NOTE!/ Here are the details you need!!
... A38: MS5 | B38: Notification of services status when completed or failed | C38: Completion Status for {Service Name} | D38: UPDATE!/ Completion Status for [Service Name]!!
C39: Collaboration Offer Received | D39: EXCITING OPPORTUNITY!/ Collaboration Offer Received!!
A40: MR18 | B40: when someone refers a friend | C40: You have a big heart | D40: GRATITUDE!/ We will let you know when {referred persons} join(s) MNF!!
A41: MR19 | B41: DO | C41: Someone trusts you | D41: LUCKY!/A world of opportunity is waiting for you!!
A42: MR20 | B42: When someone refers more friends | C42: You are really marvellous | D42: YOU ARE INSPIRING!/We will let you know when {referred person} join(s) MNF!!
A43: MR21 | B43: DO | C43: Someone trusts you | D43: LUCKY!/A world of opportunity is waiting for you!!
A44: MR22 | B44: When a referred person joins MNF | C44: Your dividend is on the way | D44: WAY TO GO!/ {Relevant name(s)} has/have joined MNF!!
A45: MR31 | B45: when someone referring but not giving responce more than week | C45: Sign up using your referral now | D45: IMPORTANT!/ Sign up for exclusive benefits!!
A46: MR32 | B46: gifted but not given any response for long time(or more than week) | C46: Don't let your gift go to waste | D46: OH NO!/ You haven't claimed your benefits!!

Sheet Bulk and reminder
A1: =COUNTA(A3:A5019) -> 115 | B1: =COUNTA(B3:B5019) -> 115 | C1: =COUNTA(C3:C5019) -> 115 | D1: =COUNTA(D3:D5019) -> 115 | E1: =COUNTA(E3:E5019) -> 105 | G1: =counta(G3:G1000) -> 0 | P1: =counta(P3:P1000) -> 105 | Q1: =counta(Q3:Q1000) -> 0 | R1: =counta(R3:R1000) -> 0 | S1: =COUNTA(S3:S2000) -> 0
A2: Email Code | B2: Sheet Name | C2: Email Type | D2: Identified On | E2: Finalised On | F2: to whom it goes | P2: reviewed? | Q2: Implemented? | R2: tested ? | S2: Reviewed/Written by Arzoo
A3: MR31 | B3: MEMBERSHIP REFERENCES | C3: 3 Days after registration(if the person has not logged in for the last 3 days) | D3: 45672 | E3: 45682 | P3: yes
A4: MR32 | B4: MEMBERSHIP REFERENCES | C4: 6 Days after registration(if the person has not logged in for the last 6 days) | D4: 45672 | E4: 45683 | P4: yes
A5: MR33 | B5: MEMBERSHIP REFERENCES | C5: 9 Days after registration(if the person has not logged in for the last 9 days) | D5: 45672 | E5: 45683 | P5: yes
A6: MR34 | B6: MEMBERSHIP REFERENCES | C6: 12 Days after registration(if the person has not logged in for the last 12 days) | D6: 45672 | E6: 45683 | P6: yes
A7: MR35 | B7: MEMBERSHIP REFERENCES | C7: 15 Days after registration(if the person has not logged in for the last 15 days) | D7: 45672 | E7: 45683 | P7: yes
A8: MR145 | B8: MEMBERSHIP REFERENCES | C8: 30 Days after registration(if the person has not logged in for the last 30 days) | D8: 45672 | E8: 45683 | P8: yes
A9: MR146 | B9: MEMBERSHIP REFERENCES | C9: 45 Days after registration(if the person has not logged in for the last 45 days) | D9: 45672 | E9: 45683 | P9: yes
A10: MR147 | B10: MEMBERSHIP REFERENCES | C10: 60 days after registration(if the person has not logged in for the last 60 days) | D10: 45672 | E10: 45683 | P10: yes
A11: MR36 | B11: MEMBERSHIP REFERENCES | C11: 3 Days after registration(if the person has not activated free trial for 3 days) | D11: 45673 | E11: 45683 | P11: yes
A12: MR37 | B12: MEMBERSHIP REFERENCES | C12: 6 Days after registration(if the person has not activated free trial for 6 days) | D12: 45673 | E12: 45683 | P12: yes
A13: MR38 | B13: MEMBERSHIP REFERENCES | C13: 9 Days after registration(if the person has not activated free trial for 9 days) | D13: 45673 | E13: 45683 | P13: yes
A14: MR39 | B14: MEMBERSHIP REFERENCES | C14: 12 Days after registration(if the person has not activated free trial for 12 days) | D14: 45673 | E14: 45683 | P14: yes
... A76: EV1 | B76: MEMBERSHIP REFERENCES | C76: Invitation to join events. | D76: 45723 | E76: 45725 | P76: yes
A81: CE1 | B81: Cold Emails | C81: When the capacity is available. | D81: 45712 | F81: to the students(4)
A82: CE2 | B82: Cold Emails | C82: When the capacity is available. | D82: 45712 | F82: to the Principal(104), to the teacher(9), to the lecturer professor(80), to the tutors tution centres(133), to the educational institutes(48), to the schools, + Colleges, +Universities, +_+Education(8)
A83: CE3 | B83: Cold Emails | C83: When the capacity is available. | D83: 45712 | F83: to the Channel+Sales+Persons(23), to the MLM Leader(90), to the Freelancers(62), to the Online Sellers(98), to the Relationship Mnaagers(112), to the Business+Development+_+Sales+Professionals(18)
A84: CE4 | B84: Cold Emails | C84: When the capacity is available. | D84: 45712 | F84: to the Cab Users(19), to the (7), to the Phone pay users(10), to the D-Mat Account Holders(45),
A85: CE5 | B85: Cold Emails | C85: When the capacity is available. | D85: 45712 | F85: to the CEO,+CFO,+CTO,+CMO(22), to the Company+MD,+Secretatiaty+_+Chairmen(31), to the Top Management Companies(129), to the NRI (non-Resident Indians)(96), to the Senior Citizens(117)
A86: CE6 | B86: Cold Emails | C86: When the capacity is available. | D86: 45712 | F86: to the Chief Managers(27), to the Entertainment Media(53), to the Media Planning Companies(87), to the Photographers(101), to the Graphic Designers(69), to the Digital Photography Studios(43), to the Designers Database(42), to the Software Engineers Database(120)
A87: CE7 | B87: Cold Emails | C87: When the capacity is available(30 days after the first email) | D87: 45712 | F87: to the students(4)
A88: CE8 | B88: Cold Emails | C88: When the capacity is available(60 days after the first email) | D88: 45712 | F88: to the Principal(104), to the teacher(9), to the lecturer professor(80), to the tutors tution centres(133), to the educational institutes(48), to the schools, + Colleges, +Universities, +_+Education(8)
A89: CE9 | B89: Cold Emails | C89: When the capacity is available(30 days after the first email) | D89: 45712 | F89: to the Channel+Sales+Persons(23), to the MLM Leader(90), to the Freelancers(62), to the Online Sellers(98), to the Relationship Mnaagers(112), to the Business+Development+_+Sales+Professionals(18)
A90: CE10 | B90: Cold Emails | C90: When the capacity is available(30 days after the first email) | D90: 45712 | F90: to the Chief Managers(27), to the Entertainment Media(53), to the Media Planning Companies(87), to the Photographers(101), to the Graphic Designers(69), to the Digital Photography Studios(43), to the Designers Database(42), to the Software Engineers Database(120)
A91: MR104 | B91: MEMBERSHIP REFERENCES | C91: 7 days after the last comment on any premise(if the user has not commented on any premise for 7 days) | D91: 45673 | E91: 45719 | P91: yes
A92: MR105 | B92: MEMBERSHIP REFERENCES | C92: 14 days after the last comment on any premise(if the user has not commented on any premise for 14 days) | D92: 45673 | E92: 45719 | P92: yes
A93: MR106 | B93: MEMBERSHIP REFERENCES | C93: 21 days after the last comment on any premise(if the user has not commented on any premise for 21 days) | D93: 45673 | E93: 45719 | P93: yes
A94: MR109 | B94: MEMBERSHIP REFERENCES | C94: 58 days after registration(if the user has not gifted MNF subscription to their friends for 58 days) | D94: 45673 | E94: 45719 | P94: yes
A95: MR110 | B95: MEMBERSHIP REFERENCES | C95: 65 days after registration(if the user has not gifted MNF subscription to their friends for 65 days) | D95: 45673 | E95: 45719 | P95: yes
A96: MR111 | B96: MEMBERSHIP REFERENCES | C96: if the user has not posted any premise for 3 days(after posting the last premise) | D96: 45673 | E96: 45719 | P96: yes
A97: MR112 | B97: MEMBERSHIP REFERENCES | C97: if the user has not posted any premise for 7 days(after posting the last premise) | D97: 45673 | E97: 45719 | P97: yes
A98: MR113 | B98: MEMBERSHIP REFERENCES | C98: if the user has not posted any premise for 14 days(after posting the last premise) | D98: 45673 | E98: 45719 | P98: yes
A99: MR76 | B99: MEMBERSHIP REFERENCES | C99: 18 days after registration(if the user has not upgraded their interests and skills for 18 days) | D99: 45673 | E99: 45733 | P99: yes
A100: MR77 | B100: MEMBERSHIP REFERENCES | C100: 33 days after registration(if the user has not upgraded their interests and skills for 33 days) | D100: 45673 | E100: 45733 | P100: yes
A101: MR78 | B101: MEMBERSHIP REFERENCES | C101: 21 days after registration(if the user has not uploaded their screen credits for 21 days) | D101: 45673 | E101: 45733 | P101: yes
A102: MR79 | B102: MEMBERSHIP REFERENCES | C102: 36 days after registration(if the user has not uploaded their screen credits for 36 days) | D102: 45673 | E102: 45733 | P102: yes
... A121: MR98 | B121: MEMBERSHIP REFERENCES | C121: 17 days after registration(if the user has not created their first project for 17 days) | D121: 45673 | E121: 45741 | P121: yes

Sheet Do You Know(Demo)
B1: =counta(B3:B1051) -> 78 | C1: Green - Done | D1: Red- On hold | G1: =counta(G3:G1051) -> 0 | P1: =counta(P3:P1046) -> 0 | Q1: =counta(Q3:Q1046) -> 0 | R1: =counta(R3:R1046) -> 0 | S1: =COUNTA(S3:S1997) -> 0
A2: Email Code | B2: When does the mail go ? (Communication Trigger) | C2: To whom does the mail go ? | D2: from_email | E2: Subject | F2: Title | G2: Main Invitation | H2: Additional Opening for Action | J2: Message on mynextfilm.ai | K2: Notification on mynextfilm.ai, to the User. | L2: News for the Buddies on mynextfilm.ai to Buddy's Member Profile. | M2: Doodle Url | N2: Poster Url | O2: Doodle Code | P2: reviewed? | Q2: Implemented? | R2: tested ? | S2: Reviewed/Written by Arzoo
A3: DK1 | B3: Do you know that you can alter the character description?
A4: DK2 | B4: Do you know that you can add a character to the project?
B5: Do you know that you can export a brainstorm as a beat to the beat sheet?
B6: Do you know that you get multiple replies for one comment in a premise pool?
B7: Do you know that you can choose from different versions of the beat you selected to generate?
B8: Do you know that you can make your premise private(exclusively for yourself)?
B9: Do you know that you can create AI-generated scripts in the scriptpad?
B10: Do you know that you can write a formatted script in the scriptpad and the facility is free forever?
B11: Do you know that you can send messages to the premise owner?
B12: Do you know that you can format your premise card?
B13: Do you know that you can create your video introduction of 85 seconds in the Viewing Lounge?
B14: Do you know that you can re-generate the scene with different scene length?
B15: Do you know that you can re-generate a scene from the same beat with different genres and sub-genres?
B16: Do you know that you can re-generate a scene from the same beat with different phase?
... B80: Do you know that you can edit every single social media link of yours through RHM?

Sheet How To(Tutorials)
B1: =counta(B3:B1053) -> 69 | C1: Green - Done | D1: Red- On hold | G1: =counta(G3:G1053) -> 0 | P1: =counta(P3:P1049) -> 0 | Q1: =counta(Q3:Q1049) -> 0 | R1: =counta(R3:R1049) -> 0 | S1: =COUNTA(S3:S2000) -> 0
A2: Email Code | B2: When does the mail go ? (Communication Trigger) | C2: To whom does the mail go ? | D2: from_email | E2: Subject | F2: Title | G2: Main Invitation | H2: Additional Opening for Action | J2: Message on mynextfilm.ai | K2: Notification on mynextfilm.ai, to the User. | L2: News for the Buddies on mynextfilm.ai to Buddy's Member Profile. | M2: Doodle Url | N2: Poster Url | O2: Doodle Code | P2: reviewed? | Q2: Implemented? | R2: tested ? | S2: Reviewed/Written by Arzoo
A3: HT1 | B3: Earn Money Using Premise Pool.
A4: HT2 | B4: Earn Money Using Script Stall
A5: HT3 | B5: Earn Money By Being A Language Pair Partner
A6: HT4 | B6: Claim Student Discount
A7: HT5 | B7: Buy Juggernaut Package
A8: HT6 | B8: Get Privileges
A9: HT7 | B9: Earn Money By Being MNF Messiah
A10: HT8 | B10: Purchase a Premise Project
A11: HT9 | B11: Acquire Translated Premise Project
A12: HT10 | B12: Create Blockchain Wallet
A13: HT11 | B13: Post Premise in Premise Pool
A14: HT12 | B14: Edit & Add Characters
... A71: HT69 | B71: Become Corporate Member

Sheet Events
B1: =counta(B3:B1053) -> 13 | C1: Green - Done | D1: Red- On hold | G1: =counta(G3:G1053) -> 13 | P1: =counta(P3:P1049) -> 7 | Q1: =counta(Q3:Q1049) -> 4 | R1: =counta(R3:R1049) -> 2 | S1: =COUNTA(S3:S2000) -> 6
A2: Email Code | B2: When does the mail go ? (Communication Trigger) | C2: To whom does the mail go ? | D2: from_email | E2: Subject | F2: Title | G2: Main Invitation | H2: Additional Opening for Action | J2: Message on mynextfilm.ai | K2: Notification on mynextfilm.ai, to the User. | L2: News for the Buddies on mynextfilm.ai to Buddy's Member Profile. | M2: Doodle Url | N2: Poster Url | O2: Doodle Code | P2: reviewed? | Q2: Implemented? | R2: tested ? | S2: Reviewed/Written by Arzoo
A3: EV1 | B3: Invitation to join events. | C3: to random user | D3: noreply@mynextfilm.ai | E3: Let Your Thoughts Echo!🔊 | F3: IRRESISTIBLE!/You Must Not Miss These Sessions! | G3: <b>Dear {User},</b> <br> <br> We have something special for you whether you’re looking for thought-provoking discussions, creative workshops, or meaningful connections. <br> <br> Each session is crafted to be exciting, insightful, and transformative. <br> <br> [🔗 Reserve Your Spot Now!](Registeration link for the events) <br> Share this invitation with someone who might be interested! The more, the merrier. <br> <br> <b>Best Regards</b> <br> <b>Team My Next Film</b> | H3: O39 | O3: B41 | P3: yes
A4: EV2 | B4: After filling out the form when the user is already an mnf member | C4: to the person who has filled the event form | D4: noreply@mynextfilm.ai | E4: Set To Achieve!👌 | F4: WONDERFUL!/You're Registered for an Enlightening Session! | G4: <b>Dear {User Name},</b> <br> <br> You have registered for the event - {Event Name}! As a valued member of MNF, we’re excited to have you join us. <br> <br> 📅 Event Details: <br> Date: {Event Date} <br> Time: {Event Time} <br> Zoom Link: {Zoom Link} <br> <br> If you have any questions or need any assistance, feel free to reach out. <br> <b>Best Regards</b> <br> <b>Team My Next Film</b> | H4: O39 | L4: [{User Name}]({User Profile url}) registered for an event. | M4: https://uidemos.s3.ap-south-1.amazonaws.com/Any+Online+event.png | N4: https://uidemos.s3.ap-south-1.amazonaws.com/17.png | O4: B41 | P4: yes | Q4: yes | R4: yes
A5: EV3 | B5: When a user fills the event form not mnf member | C5: to the person who has filled the event form | D5: noreply@mynextfilm.ai | E5: Best Decision!👍 | F5: AMAZING!/You’re Registered! Prepare for a Transformative Session! | G5: <b>Dear {User Name},</b> <br> <br> You have registered for the event - {Event Name}! <br> <br> 📅 Event Details: <br> Date: {Event Date} <br> Time: {Event Time} <br> Zoom Link: {Zoom Link} <br> <br> If you have any questions or need any assistance, feel free to reach out. <br> <b>Best Regards</b> <br> <b>Team My Next Film</b> | H5: O39 | M5: https://uidemos.s3.ap-south-1.amazonaws.com/Any+Online+event.png | N5: https://uidemos.s3.ap-south-1.amazonaws.com/17.png | O5: B41 | P5: yes | Q5: yes | R5: yes
A6: EV4 | B6: Reminders to the Registered(24 hours before the event) | C6: to the person who has filled the event form | D6: noreply@mynextfilm.ai | E6: See You Soon!⏳ | F6: REMINDER!/Countdown For An Amazing Session Starts Now! | G6: <b>Dear {User},</b> <br> <br> Just a quick reminder that the event - {Event Name} is happening tomorrow! <br> <br> 📅 Event Details: <br> 🗓 Date: {Event Date} <br> ⏰ Time: {Event Time} <br> 📍 Zoom Link: {Zoom Link} <br> <br> Make sure to mark your calendar and get ready for an insightful session. If you have any questions, feel free to reach out. <b>Best Regards</b> <br> <b>Team My Next Film</b> | H6: O39 | M6: https://uidemos.s3.ap-south-1.amazonaws.com/Any+Online+event.png | N6: https://uidemos.s3.ap-south-1.amazonaws.com/17.png | O6: B41 | P6: yes | Q6: yes
A7: EV5 | B7: Reminders to the registered(1 hour before the event) | C7: to the person who has filled the event form | D7: noreply@mynextfilm.ai | E7: Final Reminder!⌛ | F7: TICK TICK!/It’s Almost Time! Don’t Miss Out! | G7: <b>Dear {User},</b> <br> <br> Last reminder! Only 1 hour left for the event - {Event Name}. <br> <br> 📅 Event Details: <br> 🗓 Date: {Event Date} <br> ⏰ Time: {Event Time} <br> 📍 Zoom Link: {Zoom Link} <br> <br> Make sure to be on time for the insightful session. If you have any questions, feel free to reach out. <b>Best Regards</b> <br> <b>Team My Next Film</b> | H7: O39 | M7: https://uidemos.s3.ap-south-1.amazonaws.com/Any+Online+event.png | N7: https://uidemos.s3.ap-south-1.amazonaws.com/17.png | O7: B41 | P7: yes | Q7: yes
A8: EV6 | B8: Mail if attended(feedback). | C8: to the person who has filled the event form | D8: noreply@mynextfilm.ai | E8: Got A Minute?😊 | F8: APPRECIATED!/Share Your Thoughts with Us! | G8: <b>Dear {User},</b> <br> <br> We loved having you at the event - {Event Name}. Hope you found it insightful. 😊 <br> <br> We’d love your [feedback]({feedback link}). <br> <br> [Register]({event registration link}) for more such events! <br> <br> <b>Best Regards</b> <br> <b>Team My Next Film</b> | H8: O39 | M8: https://uidemos.s3.ap-south-1.amazonaws.com/Any+Online+event.png | N8: https://uidemos.s3.ap-south-1.amazonaws.com/17.png | O8: B41 | P8: yes
A9: EV7 | B9: Mail if not attended | C9: to the person who has filled the event form | D9: noreply@mynextfilm.ai | E9: Checking Up On You!😟 | F9: ALL GOOD?/You Did Not Make It! | G9: <b>Dear {User},</b> <br> <br> We noticed you couldn’t make it to the event - {Event Name}. <br> <br> [Let us know]({feedback link}) what kept you from attending and how we can improve. <br> <br> [Register]({event registration link}) for more such events! <br> <br> <b>Best Regards</b> <br> <b>Team My Next Film</b> | H9: O39 | M9: https://uidemos.s3.ap-south-1.amazonaws.com/Any+Online+event.png | N9: https://uidemos.s3.ap-south-1.amazonaws.com/17.png | O9: B41 | P9: yes
A10: EV8 | B10: Free trial handholding session(as soon as he activates free trial) | C10: to the free trial user | D10: noreply@mynextfilm.ai | E10: It's Your Time! | F10: Welcome Aboard! Let’s Book Your Assistance Now! | G10: <b>Dear {User},</b> <br> <br> You have activated your free trial! <br> <br> Want to make the most of it? Join the handholding session for a step-by-step guide on how to use the product effortlessly. <br> <br> Don’t miss out—book a demonstration in your preferred language, English or Hindi, at mynextfilm.ai! The future of filmmaking starts here! <br> <br> <b>Best Regards</b> <br> <b>Team My Next Film</b> | S10: Written
A11: EV9 | B11: If not attended free trial handholding session for 3 days | C11: to the free trial user | D11: noreply@mynextfilm.ai | E11: Guide To Your Dream!/A Guide To Success! | F11: ACT NOW!/Why Make It Complicated! | G11: <b>Dear {User},</b> <br> <br> We noticed it’s been three days, but you haven’t attended your event—Free Trial Handholding Session. <br> <br> This session is designed to help you gain a better understanding of how to use the product and make the most of your trial. <br> <br> Don’t let this opportunity slip away! Book your session today in your preferred language—English or Hindi—. Experience a smarter and simpler filmmaking journey! <br> <br> <b>Best Regards</b> <br> <b>Team My Next Film</b> | S11: Written
A12: EV10 | B12: If not attended free trial handholding session for 5 days | C12: to the free trial user | D12: noreply@mynextfilm.ai | E12: What are you up to? | F12: Don’t Miss Out! Secure a Hassle-Free Journey!/Enjoy a Hassle-Free Journey! | G12: <b>Dear {User},</b> <br> <br> We noticed it’s been five days, but you haven’t attended your event—Free Trial Handholding Session. <br> <br> This session is designed to help you gain a better understanding of how to use the product and make the most of your trial. <br> <br> Don’t let this opportunity slip away! Book your session today in your preferred language—English or Hindi—. Experience a smarter and simpler filmmaking journey! <br> <br> <b>Best Regards</b> <br> <b>Team My Next Film</b> | S12: Written
A13: EV11 | B13: If not attended free trial handholding session for 7 days | C13: to the free trial user | D13: noreply@mynextfilm.ai | E13: Time's Running Out! | F13: TAKE ACTION!/ Don’t Let Great Opportunities Pass You By./ Don’t Let Great Opportunities Slip Away! | G13: <b>Dear {User},</b> <br> <br> We noticed it’s been seven days, but you haven’t attended your event—Free Trial Handholding Session. <br> <br> This session is designed to help you gain a better understanding of how to use the product and make the most of your trial. <br> <br> Don’t let this opportunity slip away! Book your session today in your preferred language—English or Hindi—. Experience a smarter and simpler filmmaking journey! <br> <br> <b>Best Regards</b> <br> <b>Team My Next Film</b> | S13: Written
A14: EV12 | B14: If not attended free trial handholding session for 14 days | C14: to the free trial user | D14: noreply@mynextfilm.ai | E14: Seize It Before It's Gone!/Grab It Before It's Gone! | F14: DON'T WAIT!/ Book Now To Simplify Your Journey! | G14: <b>Dear {User},</b> <br> <br> We noticed it’s been fourteen days, but you haven’t attended your event—Free Trial Handholding Session. <br> <br> This session is designed to help you gain a better understanding of how to use the product and make the most of your trial. <br> <br> Don’t let this opportunity slip away! Book your session today in your preferred language—English or Hindi—. Experience a smarter and simpler filmmaking journey! <br> <br> <b>Best Regards</b> <br> <b>Team My Next Film</b> | S14: Written
A15: EV13 | B15: If not attended free trial handholding session for 20 days | C15: to the free trial user | D15: noreply@mynextfilm.ai | E15: Now Or Never! | F15: LAST CALL!/ Your Chance to Claim Your Trial! | G15: <b>Dear {User},</b> <br> <br> We noticed it’s been twenty days, but you haven’t attended your event—Free Trial Handholding Session. <br> <br> This session is designed to help you gain a better understanding of how to use the product and make the most of your trial. <br> <br> Don’t let this opportunity slip away! Book your session today in your preferred language—English or Hindi—. Experience a smarter and simpler filmmaking journey! <br> <br> <b>Best Regards</b> <br> <b>Team My Next Film</b> | S15: Written
D25: noreply@mynextfilm.ai
D26: noreply@mynextfilm.ai
D27: noreply@mynextfilm.ai
D28: noreply@mynextfilm.ai
D29: noreply@mynextfilm.ai
D30: noreply@mynextfilm.ai

Sheet Error Handling
B1: =counta(B3:B1024) -> 0 | C1: Green - Done | D1: Red- On hold | G1: =counta(G3:G1024) -> 0 | P1: =counta(P3:P1020) -> 0 | Q1: =counta(Q3:Q1020) -> 0 | R1: =counta(R3:R1020) -> 0 | S1: =COUNTA(S3:S1971) -> 0
A2: Email Code | B2: When does the mail go ? (Communication Trigger) | C2: To whom does the mail go ? | D2: from_email | E2: Subject | F2: Title | G2: Main Invitation | H2: Additional Opening for Action | J2: Message on mynextfilm.ai | K2: Notification on mynextfilm.ai, to the User. | L2: News for the Buddies on mynextfilm.ai to Buddy's Member Profile. | M2: Doodle Url | N2: Poster Url | O2: Doodle Code | P2: reviewed? | Q2: Implemented? | R2: tested ? | S2: Reviewed/Written by Arzoo

Sheet Milestones
B1: =counta(B3:B1052) -> 29 | C1: Green - Done | D1: Red- On hold | G1: =counta(G3:G1052) -> 0 | P1: =counta(P3:P1050) -> 0 | Q1: =counta(Q3:Q1050) -> 0 | R1: =counta(R3:R1050) -> 0 | S1: =COUNTA(S3:S2001) -> 0
A2: Email Code | B2: When does the mail go ? (Communication Trigger) | C2: To whom does the mail go ? | D2: from_email | E2: Subject | F2: Title | G2: Main Invitation | H2: Additional Opening for Action | I2: REWARD | J2: Message on mynextfilm.ai | K2: Notification on mynextfilm.ai, to the User. | L2: News for the Buddies on mynextfilm.ai to Buddy's Member Profile. | M2: Doodle Url | N2: Poster Url | O2: Doodle Code | P2: reviewed? | Q2: Implemented? | R2: tested ? | S2: Reviewed/Written by Arzoo
A3: ML1 | B3: 1st Monetization - successfully translated
B4: 1st Monetization - successfully sold
B5: 5 Monetization - successfully translated
B6: 5 Monetization - successfully sold
B7: 1st Premise posted for Monetization through translation
B8: 1st Premise posted for monetization by sale
B9: 5 Premise posted for Monetization through translation
B10: 5 Premise posted for monetization by sale
B11: Number of Premises Posted(25)
B14: Number of Brainstorms with IDA overall(>500)
B15: Number of Brainstorms with IDA on a single premise(>100)
B16: Number of Brainstorms with IDA overall(>500) | D16: On other's premise
B18: Number of comments converted into beats overall(
B19: Number of comments converted into beats in a single project(
B20: Number of comments converted into beats overall( | D20: On other's premise
B21: Number of Beats Converted into Scenes overall
B22: Number of Beats Converted into Scenes in one project
B24: Number of scenes generated from beats overall
B25: Number of scenes generated from beats in one project
B27: Number of people following
B28: Number of followers
B30: Number of Buddies
B32: 50 buddies in one week.
B33: 250 buddies in one month
B35: Posted Video Introduction.
B37: Created 10 Elevator Pitch
B39: Created 10 one pager
... B43: Invited 100 friends by email

Sheet Cold Emails
B1: =counta(B3:B1053) -> 18 | C1: Green - Done | D1: Red- On hold | G1: =counta(G3:G1053) -> 1 | P1: =counta(P3:P1049) -> 0 | Q1: =counta(Q3:Q1049) -> 0 | R1: =counta(R3:R1049) -> 0 | S1: =COUNTA(S3:S2000) -> 0
A2: Email Code | B2: When does the mail go ? (Communication Trigger) | C2: To whom does the mail go ? | D2: from_email | E2: Subject | F2: Title | G2: Main Invitation | H2: Additional Opening for Action | J2: Message on mynextfilm.ai | K2: Notification on mynextfilm.ai, to the User. | L2: News for the Buddies on mynextfilm.ai to Buddy's Member Profile. | M2: Doodle Url | N2: Poster Url | O2: Doodle Code | P2: reviewed? | Q2: Implemented? | R2: tested ? | S2: Reviewed/Written by Arzoo
A3: CE1 | B3: When the capacity is available. | C3: to the students(4) | D3: isabela@connect.mynextfilm.ai | E3: Learn And Earn While You Study!💸💰 | F3: WELCOME!/Register To Get A Free Trial! | G3: <p style="text-align: left;">Dear Friend,</p><p style="text-align: left;"><br></p><p style="text-align: left;">MNF invites you to - convert your story to reality.</p><p class="mcePastedContent"><br></p><p class="mcePastedContent" style="text-align: left;">❄️Convert your <a href="https://app.mynextfilm.ai/storytoscript/?utm_source=email&utm_medium=mailchimp&utm_campaign=mr41&utm_term=storytoscript" target="_blank" style="color: #0061fe;">Story into Screenplay</a>.</p><p class="mcePastedContent" style="text-align: left;">❄️Generate <a href="https://app.mynextfilm.ai/scriptpad2/?utm_source=email&utm_medium=mailchimp&utm_campaign=mr41&utm_term=aiassistedscene" target="_blank" style="color: #0061fe;">AI-assisted scenes</a> to develop your Screenplay.</p><p class="mcePastedContent" style="text-align: left;">❄️Discuss your Ideas with <a href="https://app.mynextfilm.ai/ideamall/?utm_source=email&utm_medium=mailchimp&utm_campaign=mr41&utm_term=mnfaiida" target="_blank" style="color: #0061fe;">MNF AI ’<strong>Ida</strong>’</a> and export them to ‘<strong>Scriptpad</strong>’.</p><p class="mcePastedContent" style="text-align: left;">❄️Convert your Script in <a href="https://app.mynextfilm.ai/conversion/?utm_source=email&utm_medium=mailchimp&utm_campaign=mr41&utm_term=differentlanguages" target="_blank" style="color: #0061fe;">different Languages</a>.</p><p class="mcePastedContent">❄️Post and <a href="https://app.mynextfilm.ai/ideamall/?utm_source=email&utm_medium=mailchimp&utm_campaign=mr41&utm_term=monetize" target="_blank" style="color: #0061fe;">Monetize your Ideas</a>.</p><p style="text-align: left;">❄️And do what you dream...</p><p class="mcePastedContent"><br></p><p style="text-align: left;"><span style="color:rgb(0, 0, 0);"><span style="font-size: 16px"><span style="font-family: 'Helvetica Neue', Helvetica, Arial, Verdana, sans-serif"><span style="background-color: rgb(255, 255, 255)">👉</span></span></span></span><a href="https://app.mynextfilm.ai/personal-registration?utm_source=email&utm_medium=mailchimp&utm_campaign=mr41&utm_term=claimexclusive" target="_blank" style="color: #0061fe;"><span style="font-size: 16px"><span style="font-family: 'Helvetica Neue', Helvetica, Arial, Verdana, sans-serif"><span style="background-color: rgb(255, 255, 255)">Click Here to Claim Your Exclusive Package!</span></span></span></a></p><p style="text-align: left;"><br></p><p style="text-align: left;">Cheers,</p><p style="text-align: left;">Isabella</p><p style="text-align: left;" class="last-child"><a href="https://mynextfilm.ai/?utm_source=email&utm_medium=mailchimp&utm_campaign=mr41&utm_term=cheers" target="_blank" style="color: #0061fe;">mynextfilm.ai</a></p> | H3: O2 | M3: B45
A4: CE2 | B4: When the capacity is available. | C4: to the Principal(104), to the teacher(9), to the lecturer professor(80), to the tutors tution centres(133), to the educational institutes(48), to the schools, + Colleges, +Universities, +_+Education(8) | D4: isabela@connect.mynextfilm.ai | E4: 💚💚Introduce AI-Aided Screenplay Writing For Your Students!💚💚 | F4: WELCOME!/Register To Explore What You Can Gift Them! | H4: O2 | M4: B12
A5: CE3 | B5: When the capacity is available. | C5: to the Channel+Sales+Persons(23), to the MLM Leader(90), to the Freelancers(62), to the Online Sellers(98), to the Relationship Mnaagers(112), to the Business+Development+_+Sales+Professionals(18) | D5: isabela@connect.mynextfilm.ai | E5: 🤯Opportunity To Earn As An Ambassador!💰💸 | F5: WELCOME!/Register To Explore What You Can Get! | H5: O2 | M5: B26
A6: CE4 | B6: When the capacity is available. | C6: to the Cab Users(19), to the (7), to the Phone pay users(10), to the D-Mat Account Holders(45), | D6: isabela@connect.mynextfilm.ai | E6: 📜Learn AI-Aided Screenplay Writing And Earn!📜 | F6: WELCOME!/Register To Explore What You Can Get! | H6: O2 | M6: B26
A7: CE5 | B7: When the capacity is available. | C7: to the CEO,+CFO,+CTO,+CMO(22), to the Company+MD,+Secretatiaty+_+Chairmen(31), to the Top Management Companies(129), to the NRI (non-Resident Indians)(96), to the Senior Citizens(117) | D7: isabela@connect.mynextfilm.ai | E7: 💐Bring Your Life Story To Silver Screen!💐 | F7: WELCOME!/Register To Find Out How Easy It Is! | H7: O2 | M7: B4
A8: CE6 | B8: When the capacity is available. | C8: to the Chief Managers(27), to the Entertainment Media(53), to the Media Planning Companies(87), to the Photographers(101), to the Graphic Designers(69), to the Digital Photography Studios(43), to the Designers Database(42), to the Software Engineers Database(120) | D8: isabela@connect.mynextfilm.ai | E8: ✍️Exploit Your Creativity And Earn! | F8: WELCOME!/Register To Get A Free Trial! | H8: O2 | M8: B45
A9: CE7 | B9: When the capacity is available(30 days after the CE1) | C9: to the students(4) | D9: sophia@connect.mynextfilm.ai | E9: Learn And Earn While You Study!💸💰 | F9: GET ONBOARD!/Realise Your Filmmaking Dreams! | H9: O2 | M9: B45
A10: CE8 | B10: When the capacity is available(30 days after CE2) | C10: to the Principal(104), to the teacher(9), to the lecturer professor(80), to the tutors tution centres(133), to the educational institutes(48), to the schools, + Colleges, +Universities, +_+Education(8) | D10: sophia@connect.mynextfilm.ai | E10: 💚💚Introduce AI-Aided Screenplay Writing For Your Students!💚💚 | F10: GET ONBOARD!/Your Students Will Be Grateful To You! | H10: O2 | M10: B12
A11: CE9 | B11: When the capacity is available(30 days after CE3) | C11: to the Channel+Sales+Persons(23), to the MLM Leader(90), to the Freelancers(62), to the Online Sellers(98), to the Relationship Mnaagers(112), to the Business+Development+_+Sales+Professionals(18) | D11: sophia@connect.mynextfilm.ai | E11: 🤯Opportunity To Earn As An Ambassador!💰💸 | F11: GET ONBOARD!/You Can't Miss It! | H11: O2 | M11: B26
A12: CE10 | B12: When the capacity is available(30 days after CE4) | C12: to the Cab Users(19), to the (7), to the Phone pay users(10), to the D-Mat Account Holders(45), | D12: sophia@connect.mynextfilm.ai | E12: 📜Learn AI-Aided Screenplay Writing And Earn!📜 | F12: GET ONBOARD!/You Can't Ignore It! | H12: O2 | M12: B26
A13: CE11 | B13: When the capacity is available(30 days after CE5) | C13: to the CEO,+CFO,+CTO,+CMO(22), to the Company+MD,+Secretatiaty+_+Chairmen(31), to the Top Management Companies(129), to the NRI (non-Resident Indians)(96), to the Senior Citizens(117) | D13: sophia@connect.mynextfilm.ai | E13: 💐Bring Your Life Story To Silver Screen!💐 | F13: GET ONBOARD!/Find Out How Easy It Is! | H13: O2 | M13: B4
A14: CE12 | B14: When the capacity is available(30 days after CE6) | C14: to the Chief Managers(27), to the Entertainment Media(53), to the Media Planning Companies(87), to the Photographers(101), to the Graphic Designers(69), to the Digital Photography Studios(43), to the Designers Database(42), to the Software Engineers Database(120) | D14: sophia@connect.mynextfilm.ai | E14: ✍️Exploit Your Creativity And Earn! | F14: GET ONBOARD!/You Can't Imagine How It Will Boost You Professionally! | H14: O2 | M14: B45
A15: CE13 | B15: When the capacity is available(30 days after the CE7) | C15: to the students(4) | E15: Learn And Earn While You Study!💸💰 | F15: STILL UNSURE?/You Can't Imagine, What You Will Create! | H15: O2 | M15: B45
A16: CE14 | B16: When the capacity is available(30 days after CE8) | C16: to the Principal(104), to the teacher(9), to the lecturer professor(80), to the tutors tution centres(133), to the educational institutes(48), to the schools, + Colleges, +Universities, +_+Education(8) | E16: 💚💚Introduce AI-Aided Screenplay Writing For Your Students!💚💚 | F16: STILL UNSURE?/You Can't Imagine, What You Will Create! | H16: O2 | M16: B12
A17: CE15 | B17: When the capacity is available(30 days after CE9) | C17: to the Channel+Sales+Persons(23), to the MLM Leader(90), to the Freelancers(62), to the Online Sellers(98), to the Relationship Mnaagers(112), to the Business+Development+_+Sales+Professionals(18) | E17: 🤯Opportunity To Earn As An Ambassador!💰💸 | F17: STILL UNSURE?/You Can't Imagine, What You Will Create! | H17: O2 | M17: B26
A18: CE16 | B18: When the capacity is available(30 days after CE10) | C18: to the Cab Users(19), to the (7), to the Phone pay users(10), to the D-Mat Account Holders(45), | E18: 📜Learn AI-Aided Screenplay Writing And Earn!📜 | F18: STILL UNSURE?/You Can't Imagine, What You Will Create! | H18: O2 | M18: B26
A19: CE17 | B19: When the capacity is available(30 days after CE11) | C19: to the CEO,+CFO,+CTO,+CMO(22), to the Company+MD,+Secretatiaty+_+Chairmen(31), to the Top Management Companies(129), to the NRI (non-Resident Indians)(96), to the Senior Citizens(117) | E19: 💐Bring Your Life Story To Silver Screen!💐 | F19: STILL UNSURE?/You Can't Imagine, What You Will Create! | H19: O2 | M19: B4
A20: CE18 | B20: When the capacity is available(30 days after CE12) | C20: to the Chief Managers(27), to the Entertainment Media(53), to the Media Planning Companies(87), to the Photographers(101), to the Graphic Designers(69), to the Digital Photography Studios(43), to the Designers Database(42), to the Software Engineers Database(120) | E20: ✍️Exploit Your Creativity And Earn! | F20: STILL UNSURE?/You Can't Imagine, What You Will Create! | H20: O2 | M20: B45

Sheet viewers lounge
B1: =counta(B3:B997) -> 23 | C1: Green - Done | D1: Red- On hold | E1: New/Changed | G1: =counta(G3:G997) -> 16 | J1: Result | P1: =counta(P3:P997) -> 14 | Q1: =counta(Q3:Q997) -> 15 | R1: =counta(R3:R997) -> 14 | S1: =COUNTA(S3:S1998) -> 5
A2: Email Code | B2: When does the mail go ? (Communication Trigger) | C2: To whom does the mail go ? | D2: from_email | E2: Subject | F2: Title | G2: Main Invitation | H2: Additional Opening for Action | J2: Message on mynextfilm.ai | K2: Notification on mynextfilm.ai, to the User. | L2: News for the Buddies on mynextfilm.ai to Buddy's Member Profile. | M2: Doodle Url | N2: Poster Url | O2: Doodle Code | P2: reviewed? | Q2: Implemented? | R2: tested ? | S2: Reviewed/Written by Arzoo
A3: VW1 | B3: When merge video is complete in video introduction | C3: To the user | D3: noreply@mynextfilm.ai | E3: Video Introduction is Ready! 📽️ | F3: LEAP FORWARD!/ You are Poised for Next Level of Social Media Popularity. | G3: <b> Dear {User},</b> <br> <br> Your video introduction has been created and is available for viewing. <br><br>To share it across Social Media platforms [click here]({url}). <br> <br> <b>Best Regards</b><br> <b>Team My Next Film </b> | H3: O2 | K3: Your Video Introduction is ready for sharing. | L3: [{User}]({User url}) has posted Video Introduction on Member Profile and Viewing Lounge. | M3: https://uidemos.s3.ap-south-1.amazonaws.com/video+introduction.png | N3: https://uidemos.s3.ap-south-1.amazonaws.com/17.png | O3: B39 | P3: yes | Q3: yes
A4: VW2 | B4: When user share a link | C4: To the user | D4: noreply@mynextfilm.ai | E4: Link Posted! | F4: SUCCESS!/ You've Shared a Link in Viewing Lounge!! | G4: <b>Dear [{User}]({User url}),</b> <br> <br> To view your shared link, visit [Viewing Lounge]({url}). <br> <br> <b>Best Regards</b><br> <b>Team My Next Film </b> | H4: O2 | K4: Link successfully posted! | L4: [{User}]({User url}) has shared a new link in Viewing Lounge. | M4: https://uidemos.s3.ap-south-1.amazonaws.com/viewing+lounge.png | N4: https://uidemos.s3.ap-south-1.amazonaws.com/17.png | O4: B15 | P4: yes | Q4: yes | R4: yes
A5: VW3 | B5: when user upload videos | C5: To the user | D5: noreply@mynextfilm.ai | E5: {Video Type} "{Video Title}" Under Review! 📽️ | F5: SIT BACK!/Your {Video Type} "{Video Title}" in {Language} will be Available to Public after Approval. | G5: <b>Dear [{User}]({User url}),</b> <br> <br> Your {Video Type} "[{Video Title}]({Video Title url})" has been uploaded and is under review. We will let you know if it passes the scrutiny of your conscience keepers. <br> <br> <b>Best Regards</b><br> <b>Team My Next Film </b> | H5: O2 | M5: https://uidemos.s3.ap-south-1.amazonaws.com/Upload.png | N5: https://uidemos.s3.ap-south-1.amazonaws.com/17.png | O5: B58 | P5: yes | Q5: yes | R5: yes
A6: VW4 | B6: when user upload showreel | C6: To the user | D6: noreply@mynextfilm.ai | E6: {Video Type} Under Review! 📽️ | F6: SIT BACK!/Your {Video Type} in {Language} will be Available to Public after Approval. | G6: <b>Dear [{User}]({User url}),</b> <br> <br> Your {Video Type} has been uploaded and is under review. We will let you know if it passes the scrutiny of your conscience keepers. <br> <br> <b>Best Regards</b><br> <b>Team My Next Film </b> | H6: O2 | M6: https://uidemos.s3.ap-south-1.amazonaws.com/Upload.png | N6: https://uidemos.s3.ap-south-1.amazonaws.com/17.png | O6: B58 | Q6: yes | R6: yes
A7: VW10 | B7: when the user sends a buddy request to an MNF User who is not a Buddy | C7: To the Reciever | D7: noreply@mynextfilm.ai | E7: Hey! You Are Getting Popular | F7: INVITED!/Someone aspiring to {Dream} is interested in your life story. | G7: [Embrace {Sender's Name}]({As a clickable button}) | H7: O2 | L7: [{Receiver}]({Receiver url}) has received a Buddy Request from [{Sender's Name}]({Sender's Name url}). | M7: https://uidemos.s3.ap-south-1.amazonaws.com/IMG_8862.png | N7: https://uidemos.s3.ap-south-1.amazonaws.com/17.png | O7: B37 | P7: yes | Q7: yes | R7: yes
A8: VW17 | B8: when the user sends a buddy request to an MNF User who is not a Buddy | C8: To the Sender | K8: Your Buddy Request to [{Receiver}]({Receiver url}) is sent. Once the request is accepted, [{Receiver}]({Receiver url}) will appear in your [Buddy list]({url}). | L8: [{Sender's Name}]({Sender's Name url}) has sent a Buddy Request to [{Receiver}]({Receiver url}). | M8: https://uidemos.s3.ap-south-1.amazonaws.com/video+introduction.png | N8: https://uidemos.s3.ap-south-1.amazonaws.com/17.png | Q8: yes | R8: yes
A9: VW11 | B9: when the user accepts a buddy request | C9: To the Sender.(Requester) | D9: noreply@mynextfilm.ai | E9: Good News! | F9: NEW BUDDY!/ Your Filmmaking Community is Growing! | G9: <b>Dear [{Sender's Name}]({Sender's Name url}),</b> <br> <br> Congratulations! [{Name of Acceptor}]({Name of Acceptor url}) is your Buddy now. <br> <br> <b>Best Regards</b><br> <b>Team My Next Film </b> | H9: O2 | K9: [{Name of Acceptor}]({Name of Acceptor url}) is your Buddy now. | L9: [{Name of Acceptor}]({Name of Acceptor url}) has [{Sender's Name}]({Sender's Name url}) as Buddy. | M9: https://uidemos.s3.ap-south-1.amazonaws.com/successful.png | N9: https://uidemos.s3.ap-south-1.amazonaws.com/17.png | O9: B35 | P9: yes | Q9: yes | R9: yes
A10: VW18 | B10: when the user accepts a buddy request | C10: To the Reciever.(Acceptor) | K10: [{Sender's Name}]({Sender's Name url}) is your Buddy now. | L10: [{Name of Acceptor}]({Name of Acceptor url}) and [{Sender's Name}]({Sender's Name url}) are Buddies now. | M10: https://uidemos.s3.ap-south-1.amazonaws.com/successful.png | N10: https://uidemos.s3.ap-south-1.amazonaws.com/17.png | Q10: yes | R10: yes
A11: VW13 | B11: when someone like your video | C11: To the User(Video Owner) | D11: noreply@mynextfilm.ai | E11: Got A Like on "{Video Title}"! 👍 | F11: YAY!/{Sender's Name} has liked "{Video Title}". | G11: <b>Dear [{Video Owner}]({Video Owner url}),</b> <br> <br> [{Sender's Name}]({Sender's Name url}) has liked the video "[{Video Title}]({Video Title url})". <br> <br> We encourage you to continue sharing your unique perspective, as your contributions have the power to inspire, inform, and entertain. <br> <br> <b> Best Regards </b> <br> <b> Team My Next Film </b> | H11: O2 | K11: [{Sender's Name}]({Sender's Name url}) has liked "[{Video Title}]({Video Title url})". | L11: [{Sender's Name}]({Sender's Name url}) has liked [{Video Owner}'s]({Video Owner url}) {Video Type} "[{Video Title}]({Video Title url})". | M11: https://uidemos.s3.ap-south-1.amazonaws.com/someone+likes+the+premise.png | N11: https://uidemos.s3.ap-south-1.amazonaws.com/17.png | O11: B62 | P11: yes | Q11: yes | R11: yes
A12: VW21 | B12: when someone like your video | C12: To the user(Liker) | D12: noreply@mynextfilm.ai | L12: [{Sender's Name}]({Sender's Name url}) has liked [{Video Owner}'s]({Video Owner url}) {Video Type} "[{Video Title}]({Video Title url})". | M12: https://uidemos.s3.ap-south-1.amazonaws.com/Thank+you.png | N12: https://uidemos.s3.ap-south-1.amazonaws.com/17.png | O12: B31 | Q12: yes | R12: yes
A13: VW14 | B13: when someone comment on your video | C13: To the user(Video Owner) | D13: noreply@mynextfilm.ai | E13: Got A Comment! | F13: WOAH!/{Commenter's Name} Has Commented on "{Video Title}" | G13: <b>Dear [{Video Owner}]({Video Owner url}),</b> <br> <br> To check out and respond to the comment, visit [Viewing Lounge]({url}). <br> <br> <b> Best Regards </b> <br> <b> Team My Next Film </b> | H13: O2 | K13: [{Commenter's Name}]({Commenter's Name url}) has Commented on "[{Video Title}]({Video Title url})". | L13: [{Video Owner}]({Video Owner url}) has received a comment from [{Commenter's Name}]({Commenter's Name url}) on "[{Video Title}]({Video Title url})". | M13: https://uidemos.s3.ap-south-1.amazonaws.com/someone+likes+comment.png | N13: https://uidemos.s3.ap-south-1.amazonaws.com/17.png | O13: B42 | P13: yes | Q13: yes | R13: yes
A14: VW22 | B14: when someone comment on your video | C14: To the user(Commenter) | D14: noreply@mynextfilm.ai | K14: Your comment on [{Video Owner}'s]({Video Owner url}) {Video Type} "[{Video Title}]({Video Title url})" has been posted. | L14: [{Commenter's Name}]({Commenter's Name url}) has commented on [{Video Owner}'s]({Video Owner url}) {Video Type} "[{Video Title}]({Video Title url})". | M14: https://uidemos.s3.ap-south-1.amazonaws.com/someone+likes+comment.png | N14: https://uidemos.s3.ap-south-1.amazonaws.com/17.png | Q14: yes | R14: yes
A15: VW15 | B15: when someone(non MNF User) is invited by someone to be a buddy | C15: To Reciever(Invited) | D15: noreply@mynextfilm.ai | E15: Someone aspiring to {Dream} is interested in your life story. 🤩 | F15: YOUR TURN!/ Accept {Sender's Name}'s Buddy Request. | G15: To accept {Sender's Name}'s buddy request:- <br><br>Step1. [Register at mynextfilm.ai.]({Register url}) <br>Step2. After registration, please come back and [Click here to Embrace {Sender's Name}]({Sender's Name url}) | H15: O2 | M15: https://uidemos.s3.ap-south-1.amazonaws.com/IMG_8862.png | N15: https://uidemos.s3.ap-south-1.amazonaws.com/17.png | O15: B37 | P15: yes | Q15: yes
A16: VW16 | B16: when someone(non MNF User) is invited by someone to be a buddy | C16: To Sender (Inviter) | K16: Your Buddy Request to {Receiver} is sent. Once the request is accepted, your contact will appear in your [Buddy list]({url}). | M16: https://uidemos.s3.ap-south-1.amazonaws.com/IMG_8862.png | N16: https://uidemos.s3.ap-south-1.amazonaws.com/17.png | Q16: yes | R16: yes
A17: VW19 | B17: Uploaded video is approved | F17: <b>Dear {User},</b> <br> <br> Your {Type of Video} "{Video Title}" has been uploaded and is under review. We will let you know if it passes the scrutiny of your conscience keepers. <br> <br> <b>Best Regards</b><br> <b>Team My Next Film </b> | M17: https://uidemos.s3.ap-south-1.amazonaws.com/congratulate.png | N17: https://uidemos.s3.ap-south-1.amazonaws.com/17.png | O17: B34
A18: VW20 | B18: Uploaded video is Rejected
A19: VW23 | B19: when someone sends a message | C19: To Reciever | D19: noreply@mynextfilm.ai | E19: Must check! | F19: OPPORTUNITY?/ {Sender's Name} has something to say to you. | G19: [View Message]({View Message url}) | H19: O2 | M19: https://uidemos.s3.ap-south-1.amazonaws.com/message.png | N19: https://uidemos.s3.ap-south-1.amazonaws.com/17.png | O19: B59 | P19: yes | Q19: yes | R19: yes
A20: VW24 | B20: when admin approved the video | C20: To Video owner | D20: noreply@mynextfilm.ai | E20: Hope You Are Not Acrophobic! 😱 | F20: CORROBORATED!/ "{Video Name}" Is Ready To Go Viral | G20: [Add Another Video](https://app.mynextfilm.ai/viewerlounge/viewers_longue/#/upload_video) | H20: O2 | M20: https://uidemos.s3.ap-south-1.amazonaws.com/Upload.png | N20: https://uidemos.s3.ap-south-1.amazonaws.com/17.png | O20: B58 | P20: yes | R20: yes
A21: VW25 | B21: when Viewer likes the link posted by the user. | C21: User | D21: noreply@mynextfilm.ai | E21: 🌻🌻Getting Noticed!🌻🌻 | F21: WOOHOO!/{Viewer Name} Has Showed Interest! | G21: <b>Dear [{User Name}]({User Name url}),</b> <br> <br> [{Viewer Name}]({Viewer Name}) has liked the [link](Link url) you shared. <br><br> You are making a beautiful impact — keep up the great work! <br><br> <b>Best Regards</b><br> <b>Team My Next Film </b> | H21: O2 | O21: B62 | P21: yes | S21: Written
